BEGIN:VCALENDAR
VERSION:2.0
PRODID:DPCALENDAR
CALSCALE:GREGORIAN
X-WR-TIMEZONE:UTC
BEGIN:VEVENT
DTSTART;VALUE=DATE:20211129
DTEND;VALUE=DATE:20211202
UID:0707b5968fc5bc66aaa2f2ded32c45a9
SUMMARY:ST-kurs : Överlevnadskurs i Hudpatologi: DIGITALT
DTSTAMP:20210209T083817Z
DESCRIPTION:Kursen kommer att hållas digitalt. Föreläsningarna sändes live och att det kommer att vara interaktiva falldemonstrationer.\NProgram     Anmälan\NKostnad: 6000:-. Fakturering sker i samband med kursen. Begränsat antal kursdeltagare till 30 pers. \NAlla måste ha en kamera på för att få godkänd kurs.\NSista anmälningsdag: 2021-10-15\NKursansvarig: Margareta Lirvall
X-ALT-DESC;FMTTYPE=text/html:<p>Kursen kommer att hållas digitalt. Föreläsningarna sändes live och att det kommer att vara interaktiva falldemonstrationer.</p><p><a href="images/Hudpatologi_overlevnadskurs_nov_2021_Dermatologer_program.pdf" target="_blank" rel="noopener noreferrer">Program</a>&nbsp; &nbsp; &nbsp;<a href="http://www.stkurs.ssdv.se/20210066" target="_blank" rel="noopener noreferrer">Anmälan</a></p><p>Kostnad: 6000:-. Fakturering sker i samband med kursen.&nbsp;Begränsat antal kursdeltagare till 30 pers.&nbsp;</p><p>Alla måste ha en kamera på för att få godkänd kurs.</p><p>Sista anmälningsdag: 2021-10-15</p><p>Kursansvarig: Margareta Lirvall</p>
X-ACCESS:1
X-MODIFIED:20210830T132248Z
X-HITS:2515
X-URL:
X-COLOR:
END:VEVENT
END:VCALENDAR